BEGIN:VCALENDAR
VERSION:2.0
PRODID:-//wp-events-plugin.com//5.99912//EN
TZID:Europe/Berlin
X-WR-TIMEZONE:Europe/Berlin
BEGIN:VEVENT
UID:0-884@gaildorf.albverein.eu
DTSTART;TZID=Europe/Berlin:20260527T134500
DTEND;TZID=Europe/Berlin:20260527T183000
DTSTAMP:20260407T152305Z
URL:https://gaildorf.albverein.eu/events/mittwochnachmittagswanderung-nach
 -sulzbach-kocher-senioren/
SUMMARY:Mittwochnachmittagswanderung nach Sulzbach/Kocher (Senioren)
DESCRIPTION:\nTreffpunkt: Hallengelände in Gaildorf\, 13:45 Uhr\,\nFahrt m
 it Bus zu den Startpunkten\nGruppe 1: Kieselberg – Schöner Wappenstein 
 – Eisbachtal – Sulzbach/Kocher \, ca. 2 Std.\nWanderführung: Irmgard 
 Kosel\n&nbsp\;\n\nGruppe 2: Altschmiedelfeld – Sulzbach/Kocher\, ca. 1 S
 td.\nWanderführung: Doris Ritter\n&nbsp\;\n\nEinkehr in der „Krone“\n
 \nRückkehr mit Bus\, Abfahrt 18:15 Uhr\n\n
LOCATION:Hallengelände\, Gaildorf\, Schloss-Straße 15\, Gaildorf\, 74405\
 , Deutschland
GEO:49.0025743;9.770842300000027
X-APPLE-STRUCTURED-LOCATION;VALUE=URI;X-ADDRESS=Schloss-Straße 15\, Gaildo
 rf\, 74405\, Deutschland;X-APPLE-RADIUS=100;X-TITLE=Hallengelände\, Gaild
 orf:geo:49.0025743,9.770842300000027
END:VEVENT
BEGIN:VTIMEZONE
TZID:Europe/Berlin
X-LIC-LOCATION:Europe/Berlin
BEGIN:DAYLIGHT
DTSTART:20260329T030000
TZOFFSETFROM:+0100
TZOFFSETTO:+0200
TZNAME:CEST
END:DAYLIGHT
END:VTIMEZONE
END:VCALENDAR