BEGIN:VCALENDAR
VERSION:2.0
PRODID:-//wp-events-plugin.com//5.99912//EN
TZID:Europe/Berlin
X-WR-TIMEZONE:Europe/Berlin
BEGIN:VEVENT
UID:0-886@gaildorf.albverein.eu
DTSTART;TZID=Europe/Berlin:20260509T080000
DTEND;TZID=Europe/Berlin:20260509T190000
DTSTAMP:20260417T105012Z
URL:https://gaildorf.albverein.eu/events/das-obere-donautal-zwischen-klost
 er-beuron-und-hausen-im-tal/
SUMMARY:Das Obere Donautal zwischen Kloster Beuron und Hausen im Tal
DESCRIPTION:Im Rahmen der Reihe der Weitwanderungen des Hauptvereins bieten
  wir am Samstag\, 9. Mai 2026 eine sportliche Wanderung im Oberen Donautal
  an.\n\nDetails siehe Weitwanderung: Oberes Donautal
LOCATION:Parkplatz Bahnhof Beuron\, Wolterstr. 13\, Beuron\, Baden-Württem
 berg\, 88631\, Deutschland
X-APPLE-STRUCTURED-LOCATION;VALUE=URI;X-ADDRESS=Wolterstr. 13\, Beuron\, Ba
 den-Württemberg\, 88631\, Deutschland;X-APPLE-RADIUS=100;X-TITLE=Parkplat
 z Bahnhof Beuron:geo:0,0
END:VEVENT
BEGIN:VTIMEZONE
TZID:Europe/Berlin
X-LIC-LOCATION:Europe/Berlin
BEGIN:DAYLIGHT
DTSTART:20260329T030000
TZOFFSETFROM:+0100
TZOFFSETTO:+0200
TZNAME:CEST
END:DAYLIGHT
END:VTIMEZONE
END:VCALENDAR