BEGIN:VCALENDAR
VERSION:2.0
PRODID:-//wp-events-plugin.com//5.99912//EN
TZID:Europe/Berlin
X-WR-TIMEZONE:Europe/Berlin
BEGIN:VEVENT
UID:0-885@gaildorf.albverein.eu
DTSTART;TZID=Europe/Berlin:20260513T083000
DTEND;TZID=Europe/Berlin:20260513T190000
DTSTAMP:20260407T152734Z
URL:https://gaildorf.albverein.eu/events/ausfahrt-ins-taubertal-senioren/
SUMMARY:Ausfahrt ins Taubertal (Senioren)
DESCRIPTION:\n\nFahrt mit Bus nach Bad Mergentheim\, Führung durch die Alt
 stadt\, Weiterfahrt zum Mittagessen in Markelsheim\, Weiterfahrt nach Weik
 ersheim zur Schlossbesichtigung\, Gelegenheit zur Kaffeepause\n\nRückfahr
 t mit Ankunft in Gaildorf gegen 19:00 Uhr\n\nKosten (bei 30 Teilnehmern): 
 35\,- € (40\,- € für Nichtmitglieder)\, bei höheren Teilnehmerzahlen
  vergünstigt sich der Preis um 5\,- €.\n\nAnmeldung telefonisch (07971 
 7313 oder 0176 52 92 95 18) oder per mail: DR oder MS bis zum 15. April 20
 26\nTreffpunkt für die angemeldeten Teilnehmer: Hallengelände in Gaildor
 f\, 8:30 Uhr\n\n
LOCATION:Hallengelände\, Gaildorf\, Schloss-Straße 15\, Gaildorf\, 74405\
 , Deutschland
GEO:49.0025743;9.770842300000027
X-APPLE-STRUCTURED-LOCATION;VALUE=URI;X-ADDRESS=Schloss-Straße 15\, Gaildo
 rf\, 74405\, Deutschland;X-APPLE-RADIUS=100;X-TITLE=Hallengelände\, Gaild
 orf:geo:49.0025743,9.770842300000027
END:VEVENT
BEGIN:VTIMEZONE
TZID:Europe/Berlin
X-LIC-LOCATION:Europe/Berlin
BEGIN:DAYLIGHT
DTSTART:20260329T030000
TZOFFSETFROM:+0100
TZOFFSETTO:+0200
TZNAME:CEST
END:DAYLIGHT
END:VTIMEZONE
END:VCALENDAR